BEGIN:VCALENDAR
VERSION:2.0
PRODID:icalendar-ruby
CALSCALE:GREGORIAN
METHOD:PUBLISH
BEGIN:VEVENT
DTSTAMP:20260422T222746Z
UID:3-895265@driftwoodchurch.com
DTSTART:20261026T223000Z
DTEND:20261027T000000Z
CLASS:PUBLIC
CREATED:20260422T162311
DESCRIPTION:Join Pastor JJ for a bible study via Zoom.\nLink to join: https
 ://us02web.zoom.us/j/971847885
LAST-MODIFIED:20260422T162311
LOCATION:Online via Zoom
SUMMARY:Monday Small Group
URL;VALUE=URI:https://www.driftwoodchurch.com/events/monday-small-group/202
 6-10-26
ATTACH;FILENAME=1Okk.jpg;FMTTYPE=image/jpeg:https://dq5pwpg1q8ru0.cloudfron
 t.net/2023/07/09/17/03/12/ca869a4c-6dec-455a-a58b-abcb106767d9/1Okk.jpg
END:VEVENT
END:VCALENDAR
