BEGIN:VCALENDAR
VERSION:2.0
PRODID:icalendar-ruby
CALSCALE:GREGORIAN
METHOD:PUBLISH
BEGIN:VEVENT
DTSTAMP:20260422T161242Z
UID:5-894401@driftwoodchurch.com
DTSTART:20260906T143000Z
DTEND:20260906T153000Z
CLASS:PUBLIC
CREATED:20260422T103251
DESCRIPTION:Sunday Worship
LAST-MODIFIED:20260422T103251
LOCATION:
SUMMARY:Sunday Worship
URL;VALUE=URI:https://www.driftwoodchurch.com/events/sunday-worship/2026-09
 -06
END:VEVENT
END:VCALENDAR
