BEGIN:VCALENDAR
VERSION:2.0
PRODID:icalendar-ruby
CALSCALE:GREGORIAN
METHOD:PUBLISH
BEGIN:VEVENT
DTSTAMP:20260422T185725Z
UID:5-894962@driftwoodchurch.com
DTSTART:20260920T143000Z
DTEND:20260920T153000Z
CLASS:PUBLIC
CREATED:20260422T132815
DESCRIPTION:Sunday Worship
LAST-MODIFIED:20260422T132815
LOCATION:
SUMMARY:Sunday Worship
URL;VALUE=URI:https://www.driftwoodchurch.com/events/sunday-worship/2026-09
 -20
END:VEVENT
END:VCALENDAR
