BEGIN:VCALENDAR
VERSION:2.0
PRODID:icalendar-ruby
CALSCALE:GREGORIAN
METHOD:PUBLISH
BEGIN:VEVENT
DTSTAMP:20260422T202019Z
UID:5-894963@driftwoodchurch.com
DTSTART:20260927T143000Z
DTEND:20260927T153000Z
CLASS:PUBLIC
CREATED:20260422T132816
DESCRIPTION:Sunday Worship
LAST-MODIFIED:20260422T132816
LOCATION:
SUMMARY:Sunday Worship
URL;VALUE=URI:https://www.driftwoodchurch.com/events/sunday-worship/2026-09
 -27
END:VEVENT
END:VCALENDAR
