BEGIN:VCALENDAR
VERSION:2.0
PRODID:icalendar-ruby
CALSCALE:GREGORIAN
METHOD:PUBLISH
BEGIN:VEVENT
DTSTAMP:20260423T024012Z
UID:5-896644@driftwoodchurch.com
DTSTART:20261025T143000Z
DTEND:20261025T153000Z
CLASS:PUBLIC
CREATED:20260422T220855
DESCRIPTION:Sunday Worship
LAST-MODIFIED:20260422T220855
LOCATION:
SUMMARY:Sunday Worship
URL;VALUE=URI:https://www.driftwoodchurch.com/events/sunday-worship/2026-10
 -25
END:VEVENT
END:VCALENDAR
