BEGIN:VCALENDAR
VERSION:2.0
PRODID:icalendar-ruby
CALSCALE:GREGORIAN
METHOD:PUBLISH
BEGIN:VEVENT
DTSTAMP:20260422T222746Z
UID:6-895570@driftwoodchurch.com
DTSTART:20261027T223000Z
DTEND:20261028T000000Z
CLASS:PUBLIC
CREATED:20260422T162312
DESCRIPTION:Bill &amp\; Cindy Cupp lead a small group meeting at the Windmi
 ll Village by the Sea Clubhouse\, which is conveniently in the same locati
 on that we hold church on Sunday morning!\nBill Cupp: 808-639-0973
LAST-MODIFIED:20260422T162312
LOCATION:10850 S Ocean Drive\, Jensen Beach\, FL 34957
SUMMARY:Tuesday Small Group
URL;VALUE=URI:https://www.driftwoodchurch.com/events/tuesday-small-group/20
 26-10-27
ATTACH;FILENAME=gCIW.jpg;FMTTYPE=image/jpeg:https://dq5pwpg1q8ru0.cloudfron
 t.net/2023/07/13/10/49/54/b874f904-eda5-43b4-b938-36a4af3ca80a/gCIW.jpg
END:VEVENT
END:VCALENDAR
