BEGIN:VCALENDAR
VERSION:2.0
PRODID:icalendar-ruby
CALSCALE:GREGORIAN
METHOD:PUBLISH
BEGIN:VEVENT
DTSTAMP:20260422T235750Z
UID:6-896130@driftwoodchurch.com
DTSTART:20261103T233000Z
DTEND:20261104T010000Z
CLASS:PUBLIC
CREATED:20260422T191554
DESCRIPTION:Bill &amp\; Cindy Cupp lead a small group meeting at the Windmi
 ll Village by the Sea Clubhouse\, which is conveniently in the same locati
 on that we hold church on Sunday morning!\nBill Cupp: 808-639-0973
LAST-MODIFIED:20260422T191554
LOCATION:10850 S Ocean Drive\, Jensen Beach\, FL 34957
SUMMARY:Tuesday Small Group
URL;VALUE=URI:https://www.driftwoodchurch.com/events/tuesday-small-group/20
 26-11-03
ATTACH;FILENAME=gCIW.jpg;FMTTYPE=image/jpeg:https://dq5pwpg1q8ru0.cloudfron
 t.net/2023/07/13/10/49/54/b874f904-eda5-43b4-b938-36a4af3ca80a/gCIW.jpg
END:VEVENT
END:VCALENDAR
